BEGIN:VCALENDAR
VERSION:2.0
PRODID:spatie/icalendar-generator
DESCRIPTION:Events from 阿列夫和塔夫圣灵全能风野火最后机会
 事工
X-WR-CALDESC:Events from 阿列夫和塔夫圣灵全能风野火最后机
 会事工
REFRESH-INTERVAL;VALUE=DURATION:PT1440M
X-PUBLISHED-TTL:PT1440M
BEGIN:VTIMEZONE
TZID:Etc/GMT+0
BEGIN:STANDARD
DTSTART:20220818T000000Z
TZOFFSETFROM:+0000
TZOFFSETTO:+0000
END:STANDARD
END:VTIMEZONE
BEGIN:VTIMEZONE
TZID:UTC
BEGIN:STANDARD
DTSTART:20250729T040233Z
TZOFFSETFROM:+0000
TZOFFSETTO:+0000
END:STANDARD
END:VTIMEZONE
BEGIN:VEVENT
UID:221-42
DTSTAMP:20260425T040233Z
SUMMARY:俄梅珥第40天 | 以珥月第25日开始
LOCATION:
ORGANIZER;CN=Amightywindasianteam:MAILTO:yahsbirdy@tutanota.com
DTSTART;TZID=Etc/GMT+0;VALUE=DATE:20230515
DTEND;TZID=Etc/GMT+0;VALUE=DATE:20230516
X-ALT-DESC;FMTTYPE=TEXT/HTML:点击这里返回—俄梅珥日历 数算俄
 梅珥—第40天 希伯来历以珥月第25日 数算俄梅珥之每日
 祷告： 每天要说的祝福祷告： 亚哈威我们的全能神，宇
 宙之王，是应当称颂的，祂以亚呼赎阿.哈.玛西阿克（耶
 稣基督）的宝血拯救了我们，并使我们成圣，用祂的如
 阿克.哈.古德西（圣灵）充满我们，并命令我们数算俄梅
 珥。 今天是俄梅珥第40天。是俄梅珥的5周5天。 满有恩
 典的亚，愿祂在我们的日子里，快快差遣亚呼赎阿回到
 我们这里，奉亚呼赎阿的圣名，阿们！ * * * * * * * 这是
 我们时常的祷告：愿我们蒙阿爸亚哈威，亚呼赎阿和如
 阿克.哈.古德西，甜美的圣灵的喜悦，并且得着像以诺那
 样的见证。以诺被活着提到天国去了，因为他被发现蒙
 阿爸亚哈威的喜悦。 就像以诺被提去了天国，当我们等
 候亚呼赎阿回来接祂的新娘的时候，我们祷告自己算是
 配得成为亚呼赎阿.哈.玛西阿克的新娘。愿祂发现我们准
 备好了，并且在热切地等候着，因为亚呼赎阿是来接毫
 无斑点，毫无皱褶的顺服的新娘。 俄梅珥第40天经文阅
 读： 第六周 /第六种属性—根基/密切关系/联结（Yesod）
  我们进入了第6周的数算俄梅珥直到沙夫幼特节 坐在我
 们的主亚呼赎阿的脚前   申命记 13:1-4 1“你们中间若有
 先知或是做梦的起来，向你显个神迹奇事，2对你说：‘
 我们去随从你素来所不认识的别神，事奉它吧。’他所
 显的神迹奇事虽有应验，3你也不可听那先知或是那做梦
 之人的话；因为这是亚哈威－你们的神试验你们，要知
 道你们是尽心尽性爱亚哈威－你们的神不是。4你们要顺
 从亚哈威－你们的神，敬畏祂，谨守祂的诫命，听从祂
 的话，事奉祂，专靠祂。 （亚哈威有很多话都是针对假
 先知们说的，特别是那个将要在末后的日子出现的假先
 知。） 申命记18:18 我（亚哈威）必在他们弟兄中间给他
 们兴起一位先知，像你。我要将当说的话传给祂；祂要
 将我一切所吩咐的都传给他们。 彼得后书 1:16-21 16我们
 从前将我们主亚呼赎阿.哈.玛西阿克的大能和祂降临的事
 告诉你们，并不是随从乖巧捏造的虚言，乃是亲眼见过
 祂的威荣。17祂从父神亚哈威得尊贵荣耀的时候，从极大
 荣光之中有声音出来，向祂说：“这是我的爱子，我所
 喜悦的。”18我们同祂在圣山的时候，亲自听见这声音从
 天上出来。19我们并有先知更确的预言，如同灯照在暗处
 。你们在这预言上留意，直等到天发亮，晨星在你们心
 里出现的时候，才是好的。20第一要紧的，该知道经上所
 有的预言没有可随私意解说的；21因为预言从来没有出于
 人意的，乃是人被如阿克.哈.古德西感动，说出神亚哈威
 的话来。 约翰福音 5:39 你们查考圣经（或译：应当查考
 圣经），因你们以为内中有永生；给我作见证的就是这
 经。 “我完全相信亚呼赎阿.哈.玛西阿克就是众先知所
 说的那位将要来的弥赛亚。我相信众先知的话是真的，
 圣经上所说的一切事都必在祂所定的时间成就。亚哈威
 说的每一个字，一点一画也不能废去，直到一切都照亚
 呼赎阿所说的成就了。我相信亚呼赎阿是先知、祭司和
 君王，且祂的话是真的。” 亚哈威的真先知 永远不会让
 你从亚哈威的道（话语）转离去侍奉假神 他们将只会说
 亚哈威告诉他们要说的话 他们不会挠人的耳朵，但只会
 说出祂的话语 亚哈威的真先知永远不会说，亚哈威的妥
 拉/教导和训诲已经被废除了，或无关紧要了。他们若这
 样说，那就是一个假先知，不可信。 他们总是号召人们
 悔改、并回归祂的妥拉/教导和训诲 他们宣告以色列全家
 的复兴 他们宣告对亚哈威话语的不顺服之审判和刑罚 他
 们宣告对那些会悔改（Teshuvah），回归亚哈威的教导和训
 诲以及祂的妥拉的人的祝福，和宣告过对那些不愿遵守
 祂的话的人的咒诅。 他们宣告过邪恶的终结以及弥赛亚
 在地球上的作王掌权 他们会斥责罪 他们会说关于天国，
 也会说关于地狱 他们会说新天和新地 他们会说我们将与
 弥赛亚一起作王掌权，直到永远 他们为弥赛亚亚呼赎阿
 作见证──祂第一次是以受苦的仆人的身份而来，祂第
 二次则是以弥赛亚，万王之王和万主之主的身份而来。 
 亚呼赎阿弥赛亚是真正的先知，大祭司，和君王！ 如果
 我们确实相信众先知的话是真的，那么我们就应该读他
 们的话，去思想他们在说什么，因为他们今天仍然对我
 们说话，并且他们是在说弥赛亚。今天仍然还有待实现
 的关于末时、以色列、和亚呼赎阿再来的预言。 如果你
 不知道经文话语，那么你就可能被那些“自称是先知、
 是宣告神话语的人，然而却不是”的人所欺骗。 亚呼赎
 阿在马太福音24章警告过我们此事（众多的假先知和假弥
 赛亚），因为亚呼赎阿就是这话语的最大先知，正如祂
 是我们的弥赛亚和君王。我们必须留心祂在对祂的身体
 （教会）说什么。 使徒行传3:18-26&amp;hellip\;
CATEGORIES:OMER
URL;VALUE=URI:https://asiansc.allmightywind.com/mc-events/%e4%bf%84%e6%a2%8
 5%e7%8f%a5%e7%ac%ac40%e5%a4%a9-%e4%bb%a5%e7%8f%a5%e6%9c%88%e7%ac%ac25%e6%9
 7%a5%e5%bc%80%e5%a7%8b/
METHOD:PUBLISH
END:VEVENT
END:VCALENDAR