BEGIN:VCALENDAR
VERSION:2.0
PRODID:spatie/icalendar-generator
DESCRIPTION:Events from 阿列夫和塔夫圣灵全能风野火最后机会
 事工
X-WR-CALDESC:Events from 阿列夫和塔夫圣灵全能风野火最后机
 会事工
REFRESH-INTERVAL;VALUE=DURATION:PT1440M
X-PUBLISHED-TTL:PT1440M
BEGIN:VTIMEZONE
TZID:Etc/GMT+0
BEGIN:STANDARD
DTSTART:20220814T000000Z
TZOFFSETFROM:+0000
TZOFFSETTO:+0000
END:STANDARD
END:VTIMEZONE
BEGIN:VTIMEZONE
TZID:UTC
BEGIN:STANDARD
DTSTART:20250729T040243Z
TZOFFSETFROM:+0000
TZOFFSETTO:+0000
END:STANDARD
END:VTIMEZONE
BEGIN:VEVENT
UID:217-38
DTSTAMP:20260425T040243Z
SUMMARY:俄梅珥第36天 | 以珥月第21日开始
LOCATION:
ORGANIZER;CN=Amightywindasianteam:MAILTO:yahsbirdy@tutanota.com
DTSTART;TZID=Etc/GMT+0;VALUE=DATE:20230511
DTEND;TZID=Etc/GMT+0;VALUE=DATE:20230512
X-ALT-DESC;FMTTYPE=TEXT/HTML:点击这里返回—俄梅珥日历 数算俄
 梅珥—第36天 希伯来历以珥月第21日 数算俄梅珥之每日
 祷告： 每天要说的祝福祷告： 亚哈威我们的全能神，宇
 宙之王，是应当称颂的，祂以亚呼赎阿.哈.玛西阿克（耶
 稣基督）的宝血拯救了我们，并使我们成圣，用祂的如
 阿克.哈.古德西（圣灵）充满我们，并命令我们数算俄梅
 珥。 今天是俄梅珥第36天。是俄梅珥的5周1天。 满有恩
 典的亚，愿祂在我们的日子里，快快差遣亚呼赎阿回到
 我们这里，奉亚呼赎阿的圣名，阿们！ * * * * * * * 这是
 我们时常的祷告：愿我们蒙阿爸亚哈威，亚呼赎阿和如
 阿克.哈.古德西，甜美的圣灵的喜悦，并且得着像以诺那
 样的见证。以诺被活着提到天国去了，因为他被发现蒙
 阿爸亚哈威的喜悦。 就像以诺被提去了天国，当我们等
 候亚呼赎阿回来接祂的新娘的时候，我们祷告自己算是
 配得成为亚呼赎阿.哈.玛西阿克的新娘。愿祂发现我们准
 备好了，并且在热切地等候着，因为亚呼赎阿是来接毫
 无斑点，毫无皱褶的顺服的新娘。 俄梅珥第36天经文阅
 读： 第六周 /第六种属性—根基/密切关系/联结（Yesod）
  我们进入了第6周的数算俄梅珥直到沙夫幼特节 坐在我
 们的主亚呼赎阿的脚前 亚哈威/神是独一的、合而为一的
 神。 &amp;nbsp\; “我完全相信创造主，祂的名是应当称颂的
 ，祂是独一的且在任何方面都是无可比拟的，惟有祂是
 我们昔在，今在，以后永在的神”亚呼赎阿是昔在，今
 在，以后永在的阿列夫和塔夫。 &amp;nbsp\; 约翰福音 10:30 我
 （亚呼赎阿）与父亚哈威原为一。 约翰福音 3:18 信祂（
 亚呼赎阿）的人，不被定罪；不信的人，罪已经定了，
 因为祂不信神亚哈威独生子的名。 约翰福音 5:24 - 30 25我
 实实在在地告诉你们，时候将到，现在就是了，死人要
 听见神亚哈威儿子的声音，听见的人就要活了。26因为父
 亚哈威怎样在自己有生命，就赐给祂儿子也照样在自己
 有生命，27并且因为祂是神子，就赐给祂行审判的权柄。
 28你们不要把这事看作希奇。时候要到，凡在坟墓里的，
 都要听见祂的声音，就出来：29行善的，复活得生；作恶
 的，复活定罪。30“我凭着自己不能做什么，我怎么听见
 就怎么审判。我的审判也是公平的；因为我不求自己的
 意思，只求那差我来者的意思。” 约翰福音17:20 – 23 20
 “我不但为这些人祈求，也为那些因他们的话信我的人
 祈求，21使他们都合而为一。正如祢父亚哈威在我里面，
 我在祢里面，使他们也在我们里面，叫世人可以信祢差
 了我来。22祢所赐给我的荣耀，我已赐给他们，使他们合
 而为一，像我们合而为一。23我在他们里面，祢在我里面
 ，使他们完完全全地合而为一，叫世人知道祢差了我来
 ，也知道祢爱他们如同爱我一样。 &amp;nbsp\; 我完全相信亚
 哈威是独一/合而为一的神（Echad ）且在这合一中亚呼赎
 阿和亚哈威及如阿克.哈.古德西祂们合而为一。我相信且
 承认亚呼赎阿就如圣经所记载，祂是神的儿子，除祂以
 外别无他人。正如亚呼赎阿和父原为一，同样，我们作
 为弥赛亚的身体因信亚呼赎阿而在祂里面合而为一。亚
 呼赎阿是道路，真理和生命，通往父的唯一道路，只有
 一位众人之父，就是亚哈威/神。我相信独一的真神三位
 一体的本质，相信亚呼赎阿是亚哈威成了肉身来的。 亚
 呼赎阿为我们祈求祷告（约翰福音17章）我们会合而为一
 ，像祂与父合而为一一样。祂将再次使以色列民（犹大
 和以法莲）在祂执掌的王权下合而为一（以西结书37章）
 。我们是身体中的许多肢体，但却只有一位新娘。当2人
 结婚时，在父的眼中他们是成为一体的。 我们之中没有
 人知晓一切，在研读祂的话语时我们每个人都已得到了
 启示，当我们聚集在一个身体上时，我们每一个人所得
 到的那启示，就能带出更加全备的领悟。就像拼图游戏
 可能有数千片的拼图，每片拼图组合在一起就拼出一幅
 图画，但若那个拼图缺失一片，那么这幅图画就不完整
 。 哥林多前书12章说亚哈威已赐给了我们每一个人各样
 属灵恩赐，但唯有和其他弥赛亚里的信徒的恩赐聚集一
 起时各样恩赐才得完全。换而言之就是我们需要彼此来
 完成这幅拼图。一个弥赛亚团体如果没有联合的话，是
 无法兴盛或者存活下来的，而且这种联合必须是单单建
 立在神的话语和对亚呼赎阿的信仰的基础之上的。。 哥
 林多前书12章 1弟兄们，论到属灵的恩赐，我不愿意你们
 不明白。2你们作外邦人的时候，随事被牵引，受迷惑，
 去服事那哑巴偶像，这是你们知道的。3所以我告诉你们
 ，被神亚哈威的灵感动的，没有说“亚呼赎阿是可咒诅
 ”的；若不是被如阿克.哈.古德西感动的，也没有能说“
 亚呼赎阿是主”的。 4恩赐原有分别，如阿克.哈.古德西
 却是一位。5职事也有分别，主却是一位。6功用也有分别
 ，神却是一位，在众人里面运行一切的事。7如阿克.哈.
 古德西显在各人身上，是叫人得益处。8这人蒙如阿克.哈
 .古德西赐他智慧的言语，那人也蒙这位如阿克.哈.古德
 西赐他知识的言语，9又有一人蒙这位如阿克.哈.古德西
 赐他信心，还有一人蒙这位如阿克.哈.古德西赐他医病的
 恩赐，10又叫一人能行异能，又叫一人能作先知，又叫一
 人能辨别诸灵，又叫一人能说方言，又叫一人能翻方言
 。11这一切都是这位如阿克.哈.古德西所运行、随己意分
 给各人的。 12就如身子是一个，却有许多肢体；而且肢
 体虽多，仍是一个身子；亚呼赎阿.哈.玛西阿克也是这样
 。13我们不拘是犹太人，是希腊人，是为奴的，是自主的
 ，都从一位如阿克.哈.古德西受洗，成了一个身体，饮于
 一位如阿克.哈.古德西。14身子原不是一个肢体，乃是许
 多肢体。15设若脚说：“我不是手，所以不属乎身子，”
 它不能因此就不属乎身子。16设若耳说：“我不是眼，所
 以不属乎身子，”它也不能因此就不属乎身子。17若全身
 是眼，从哪里听声呢？若全身是耳，从哪里闻味呢？18但
 如今，神随自己的意思把肢体具各安排在身上了。19若都
 是一个肢体，身子在哪里呢？20但如今肢体是多的，身子
 却是一个。21眼不能对手说：“我用不着你。”头也不能
 对脚说：“我用不着你。”22不但如此，身上肢体人以为
 软弱的，更是不可少的。23身上肢体，我们看为不体面的
 ，越发给它加上体面；不俊美的，越发得着俊美。24我们
 俊美的肢体，自然用不着装饰；但神配搭这身子，把加
 倍的体面给那有缺欠的肢体，25免得身上分门别类，总要
 肢体彼此相顾。26若一个肢体受苦，所有的肢体就一同受
 苦；若一个肢体得荣耀，所有的肢体就一同快乐。27你们
 就是亚呼赎阿.哈.玛西阿克的身子，并且各自作肢体。28
 神在教会所设立的：第一是使徒，第二是先知，第三是
 教师，其次是行异能的，再次是得恩赐医病的，帮助人
 的，治理事的，说方言的。29岂都是使徒吗？岂都是先知
 吗？岂都是教师吗？岂都是行异能的吗？30岂都是得恩赐
 医病的吗？岂都是说方言的吗？岂都是翻方言的吗？31你
 们要切切地求那更大的恩赐。 我现今把最妙的道指示你
 们。 以弗所书 4:1-6 1我为主亚呼赎阿被囚的劝你们：既
 然蒙召，行事为人就当与蒙召的恩相称。2凡事谦虚、温
 柔、忍耐，用爱心互相宽容，3用和平彼此联络，竭力保
 守如阿克.哈.古德西所赐合而为一的心。4身体只有一个
 ，如阿克.哈.古德西只有一个，正如你们蒙召同有一个指
 望。5一主，一信，一洗，6一神，就是众人的父亚哈威，
 超乎众人之上，贯乎众人之中，也住在众人之内。 &amp;nbsp\;
 &amp;hellip\;
CATEGORIES:OMER
URL;VALUE=URI:https://asiansc.allmightywind.com/mc-events/%e4%bf%84%e6%a2%8
 5%e7%8f%a5%e7%ac%ac36%e5%a4%a9-%e4%bb%a5%e7%8f%a5%e6%9c%88%e7%ac%ac21%e6%9
 7%a5%e5%bc%80%e5%a7%8b/
METHOD:PUBLISH
END:VEVENT
END:VCALENDAR